BEGIN:VCALENDAR
VERSION:2.0
PRODID:-//Hawthorne Caballeros Drum &amp; Bugle Corps - ECPv6.15.19//NONSGML v1.0//EN
CALSCALE:GREGORIAN
METHOD:PUBLISH
X-ORIGINAL-URL:https://hawthornecaballeros.org
X-WR-CALDESC:Events for Hawthorne Caballeros Drum &amp; Bugle Corps
REFRESH-INTERVAL;VALUE=DURATION:PT1H
X-Robots-Tag:noindex
X-PUBLISHED-TTL:PT1H
BEGIN:VTIMEZONE
TZID:America/New_York
BEGIN:DAYLIGHT
TZOFFSETFROM:-0500
TZOFFSETTO:-0400
TZNAME:EDT
DTSTART:20250309T070000
END:DAYLIGHT
BEGIN:STANDARD
TZOFFSETFROM:-0400
TZOFFSETTO:-0500
TZNAME:EST
DTSTART:20251102T060000
END:STANDARD
BEGIN:DAYLIGHT
TZOFFSETFROM:-0500
TZOFFSETTO:-0400
TZNAME:EDT
DTSTART:20260308T070000
END:DAYLIGHT
BEGIN:STANDARD
TZOFFSETFROM:-0400
TZOFFSETTO:-0500
TZNAME:EST
DTSTART:20261101T060000
END:STANDARD
BEGIN:DAYLIGHT
TZOFFSETFROM:-0500
TZOFFSETTO:-0400
TZNAME:EDT
DTSTART:20270314T070000
END:DAYLIGHT
BEGIN:STANDARD
TZOFFSETFROM:-0400
TZOFFSETTO:-0500
TZNAME:EST
DTSTART:20271107T060000
END:STANDARD
END:VTIMEZONE
BEGIN:VEVENT
DTSTART;VALUE=DATE:20260524
DTEND;VALUE=DATE:20260525
DTSTAMP:20260422T112703
CREATED:20251125T021359Z
LAST-MODIFIED:20251125T021359Z
UID:3768-1779580800-1779667199@hawthornecaballeros.org
SUMMARY:2026 Saddle Brook Memorial Day Parade
DESCRIPTION:
URL:https://hawthornecaballeros.org/event/2026-saddle-brook-memorial-day-parade/
LOCATION:Saddle Brook\, NJ\, United States
CATEGORIES:Parade
END:VEVENT
BEGIN:VEVENT
DTSTART;VALUE=DATE:20260525
DTEND;VALUE=DATE:20260526
DTSTAMP:20260422T112703
CREATED:20251125T021431Z
LAST-MODIFIED:20251125T021431Z
UID:3770-1779667200-1779753599@hawthornecaballeros.org
SUMMARY:2026 Fair Lawn Memorial Day Parade
DESCRIPTION:Fair Lawn NJ
URL:https://hawthornecaballeros.org/event/2026-fair-lawn-memorial-day-parade/
LOCATION:Fair Lawn\, NJ\, Fair Lawn\, NJ\, 07410\, United States
CATEGORIES:Parade
END:VEVENT
BEGIN:VEVENT
DTSTART;VALUE=DATE:20260525
DTEND;VALUE=DATE:20260526
DTSTAMP:20260422T112703
CREATED:20251125T021502Z
LAST-MODIFIED:20251125T021502Z
UID:3772-1779667200-1779753599@hawthornecaballeros.org
SUMMARY:2026 Hawthorne Memorial Day Parade
DESCRIPTION:
URL:https://hawthornecaballeros.org/event/2026-hawthorne-memorial-day-parade/
LOCATION:Hawthorne\, NJ\, Hawthorne\, NJ\, 07506
CATEGORIES:Parade
END:VEVENT
BEGIN:VEVENT
DTSTART;VALUE=DATE:20260530
DTEND;VALUE=DATE:20260531
DTSTAMP:20260422T112703
CREATED:20260122T151525Z
LAST-MODIFIED:20260122T151525Z
UID:3922-1780099200-1780185599@hawthornecaballeros.org
SUMMARY:Hoboken Memorial Day Parade
DESCRIPTION:More info to come.
URL:https://hawthornecaballeros.org/event/hoboken-memorial-day-parade/
CATEGORIES:Parade
END:VEVENT
END:VCALENDAR