BEGIN:VCALENDAR
VERSION:2.0
PRODID:-//Hawthorne Caballeros Drum &amp; Bugle Corps - ECPv6.15.19//NONSGML v1.0//EN
CALSCALE:GREGORIAN
METHOD:PUBLISH
X-ORIGINAL-URL:https://hawthornecaballeros.org
X-WR-CALDESC:Events for Hawthorne Caballeros Drum &amp; Bugle Corps
REFRESH-INTERVAL;VALUE=DURATION:PT1H
X-Robots-Tag:noindex
X-PUBLISHED-TTL:PT1H
BEGIN:VTIMEZONE
TZID:America/New_York
BEGIN:DAYLIGHT
TZOFFSETFROM:-0500
TZOFFSETTO:-0400
TZNAME:EDT
DTSTART:20250309T070000
END:DAYLIGHT
BEGIN:STANDARD
TZOFFSETFROM:-0400
TZOFFSETTO:-0500
TZNAME:EST
DTSTART:20251102T060000
END:STANDARD
BEGIN:DAYLIGHT
TZOFFSETFROM:-0500
TZOFFSETTO:-0400
TZNAME:EDT
DTSTART:20260308T070000
END:DAYLIGHT
BEGIN:STANDARD
TZOFFSETFROM:-0400
TZOFFSETTO:-0500
TZNAME:EST
DTSTART:20261101T060000
END:STANDARD
BEGIN:DAYLIGHT
TZOFFSETFROM:-0500
TZOFFSETTO:-0400
TZNAME:EDT
DTSTART:20270314T070000
END:DAYLIGHT
BEGIN:STANDARD
TZOFFSETFROM:-0400
TZOFFSETTO:-0500
TZNAME:EST
DTSTART:20271107T060000
END:STANDARD
END:VTIMEZONE
BEGIN:VEVENT
DTSTART;TZID=America/New_York:20260501T190000
DTEND;TZID=America/New_York:20260501T220000
DTSTAMP:20260422T083731
CREATED:20251201T205934Z
LAST-MODIFIED:20260122T153621Z
UID:3827-1777662000-1777672800@hawthornecaballeros.org
SUMMARY:Rehearsal
DESCRIPTION:
URL:https://hawthornecaballeros.org/event/rehearsal-may12026/
CATEGORIES:Rehearsal
END:VEVENT
BEGIN:VEVENT
DTSTART;TZID=America/New_York:20260502T090000
DTEND;TZID=America/New_York:20260502T210000
DTSTAMP:20260422T083731
CREATED:20251201T211049Z
LAST-MODIFIED:20260122T153611Z
UID:3855-1777712400-1777755600@hawthornecaballeros.org
SUMMARY:Rehearsal
DESCRIPTION:
URL:https://hawthornecaballeros.org/event/rehearsal-may22026/
CATEGORIES:Rehearsal
END:VEVENT
BEGIN:VEVENT
DTSTART;TZID=America/New_York:20260503T090000
DTEND;TZID=America/New_York:20260503T160000
DTSTAMP:20260422T083731
CREATED:20251201T211111Z
LAST-MODIFIED:20260122T153505Z
UID:3857-1777798800-1777824000@hawthornecaballeros.org
SUMMARY:Rehearsal
DESCRIPTION:
URL:https://hawthornecaballeros.org/event/rehearsal-may32026/
CATEGORIES:Rehearsal
END:VEVENT
BEGIN:VEVENT
DTSTART;TZID=America/New_York:20260508T190000
DTEND;TZID=America/New_York:20260508T220000
DTSTAMP:20260422T083731
CREATED:20251201T210025Z
LAST-MODIFIED:20251201T211312Z
UID:3829-1778266800-1778277600@hawthornecaballeros.org
SUMMARY:Rehearsal
DESCRIPTION:
URL:https://hawthornecaballeros.org/event/rehearsal-may82026/
CATEGORIES:Rehearsal
END:VEVENT
BEGIN:VEVENT
DTSTART;TZID=America/New_York:20260509T090000
DTEND;TZID=America/New_York:20260509T210000
DTSTAMP:20260422T083731
CREATED:20251201T211342Z
LAST-MODIFIED:20251201T211342Z
UID:3860-1778317200-1778360400@hawthornecaballeros.org
SUMMARY:Rehearsal
DESCRIPTION:
URL:https://hawthornecaballeros.org/event/rehearsal-may92026/
CATEGORIES:Rehearsal
END:VEVENT
BEGIN:VEVENT
DTSTART;TZID=America/New_York:20260510T090000
DTEND;TZID=America/New_York:20260510T130000
DTSTAMP:20260422T083731
CREATED:20251201T211422Z
LAST-MODIFIED:20251201T211422Z
UID:3862-1778403600-1778418000@hawthornecaballeros.org
SUMMARY:Rehearsal
DESCRIPTION:Rehearsal will end early due to Mother’s Day.
URL:https://hawthornecaballeros.org/event/rehearsal-may102026/
CATEGORIES:Rehearsal
END:VEVENT
BEGIN:VEVENT
DTSTART;TZID=America/New_York:20260515T190000
DTEND;TZID=America/New_York:20260515T220000
DTSTAMP:20260422T083731
CREATED:20251201T210102Z
LAST-MODIFIED:20251201T211710Z
UID:3831-1778871600-1778882400@hawthornecaballeros.org
SUMMARY:Rehearsal
DESCRIPTION:
URL:https://hawthornecaballeros.org/event/rehearsal-may152026/
CATEGORIES:Rehearsal
END:VEVENT
BEGIN:VEVENT
DTSTART;TZID=America/New_York:20260516T090000
DTEND;TZID=America/New_York:20260516T210000
DTSTAMP:20260422T083731
CREATED:20251201T211737Z
LAST-MODIFIED:20251201T211748Z
UID:3864-1778922000-1778965200@hawthornecaballeros.org
SUMMARY:Rehearsal
DESCRIPTION:
URL:https://hawthornecaballeros.org/event/rehearsal-may162026/
CATEGORIES:Rehearsal
END:VEVENT
BEGIN:VEVENT
DTSTART;TZID=America/New_York:20260517T090000
DTEND;TZID=America/New_York:20260517T210000
DTSTAMP:20260422T083731
CREATED:20251201T211815Z
LAST-MODIFIED:20251201T211815Z
UID:3866-1779008400-1779051600@hawthornecaballeros.org
SUMMARY:Rehearsal
DESCRIPTION:
URL:https://hawthornecaballeros.org/event/rehearsal-may172026/
CATEGORIES:Rehearsal
END:VEVENT
BEGIN:VEVENT
DTSTART;TZID=America/New_York:20260522T190000
DTEND;TZID=America/New_York:20260522T220000
DTSTAMP:20260422T083731
CREATED:20251201T210217Z
LAST-MODIFIED:20251201T211930Z
UID:3833-1779476400-1779487200@hawthornecaballeros.org
SUMMARY:Rehearsal
DESCRIPTION:
URL:https://hawthornecaballeros.org/event/rehearsal-may222026/
CATEGORIES:Rehearsal
END:VEVENT
BEGIN:VEVENT
DTSTART;TZID=America/New_York:20260523T083000
DTEND;TZID=America/New_York:20260523T173000
DTSTAMP:20260422T083731
CREATED:20251201T212007Z
LAST-MODIFIED:20251201T212007Z
UID:3870-1779525000-1779557400@hawthornecaballeros.org
SUMMARY:Rehearsal
DESCRIPTION:
URL:https://hawthornecaballeros.org/event/rehearsal-may232026/
CATEGORIES:Rehearsal
END:VEVENT
BEGIN:VEVENT
DTSTART;TZID=America/New_York:20260524T160000
DTEND;TZID=America/New_York:20260524T200000
DTSTAMP:20260422T083731
CREATED:20251201T212042Z
LAST-MODIFIED:20251201T212042Z
UID:3872-1779638400-1779652800@hawthornecaballeros.org
SUMMARY:Rehearsal
DESCRIPTION:
URL:https://hawthornecaballeros.org/event/rehearsal-may242026/
CATEGORIES:Rehearsal
END:VEVENT
BEGIN:VEVENT
DTSTART;TZID=America/New_York:20260529T190000
DTEND;TZID=America/New_York:20260529T220000
DTSTAMP:20260422T083731
CREATED:20251201T210350Z
LAST-MODIFIED:20251201T212125Z
UID:3839-1780081200-1780092000@hawthornecaballeros.org
SUMMARY:Rehearsal
DESCRIPTION:
URL:https://hawthornecaballeros.org/event/rehearsal-may292026/
CATEGORIES:Rehearsal
END:VEVENT
BEGIN:VEVENT
DTSTART;TZID=America/New_York:20260530T090000
DTEND;TZID=America/New_York:20260530T210000
DTSTAMP:20260422T083731
CREATED:20251201T212147Z
LAST-MODIFIED:20251201T212158Z
UID:3874-1780131600-1780174800@hawthornecaballeros.org
SUMMARY:Rehearsal
DESCRIPTION:
URL:https://hawthornecaballeros.org/event/rehearsal-may302026/
CATEGORIES:Rehearsal
END:VEVENT
BEGIN:VEVENT
DTSTART;TZID=America/New_York:20260531T090000
DTEND;TZID=America/New_York:20260531T160000
DTSTAMP:20260422T083731
CREATED:20251201T212220Z
LAST-MODIFIED:20251201T212230Z
UID:3876-1780218000-1780243200@hawthornecaballeros.org
SUMMARY:Rehearsal
DESCRIPTION:
URL:https://hawthornecaballeros.org/event/rehearsal-may312026/
CATEGORIES:Rehearsal
END:VEVENT
END:VCALENDAR