BEGIN:VCALENDAR
VERSION:2.0
PRODID:-//Hawthorne Caballeros Drum &amp; Bugle Corps - ECPv6.15.19//NONSGML v1.0//EN
CALSCALE:GREGORIAN
METHOD:PUBLISH
X-WR-CALNAME:Hawthorne Caballeros Drum &amp; Bugle Corps
X-ORIGINAL-URL:https://hawthornecaballeros.org
X-WR-CALDESC:Events for Hawthorne Caballeros Drum &amp; Bugle Corps
REFRESH-INTERVAL;VALUE=DURATION:PT1H
X-Robots-Tag:noindex
X-PUBLISHED-TTL:PT1H
BEGIN:VTIMEZONE
TZID:America/New_York
BEGIN:DAYLIGHT
TZOFFSETFROM:-0500
TZOFFSETTO:-0400
TZNAME:EDT
DTSTART:20250309T070000
END:DAYLIGHT
BEGIN:STANDARD
TZOFFSETFROM:-0400
TZOFFSETTO:-0500
TZNAME:EST
DTSTART:20251102T060000
END:STANDARD
BEGIN:DAYLIGHT
TZOFFSETFROM:-0500
TZOFFSETTO:-0400
TZNAME:EDT
DTSTART:20260308T070000
END:DAYLIGHT
BEGIN:STANDARD
TZOFFSETFROM:-0400
TZOFFSETTO:-0500
TZNAME:EST
DTSTART:20261101T060000
END:STANDARD
BEGIN:DAYLIGHT
TZOFFSETFROM:-0500
TZOFFSETTO:-0400
TZNAME:EDT
DTSTART:20270314T070000
END:DAYLIGHT
BEGIN:STANDARD
TZOFFSETFROM:-0400
TZOFFSETTO:-0500
TZNAME:EST
DTSTART:20271107T060000
END:STANDARD
END:VTIMEZONE
BEGIN:VEVENT
DTSTART;TZID=America/New_York:20260710T190000
DTEND;TZID=America/New_York:20260710T220000
DTSTAMP:20260422T230729
CREATED:20251201T210845Z
LAST-MODIFIED:20251201T212303Z
UID:3851-1783710000-1783720800@hawthornecaballeros.org
SUMMARY:Rehearsal
DESCRIPTION:  \n 
URL:https://hawthornecaballeros.org/event/rehearsal-july102026/
CATEGORIES:Rehearsal
END:VEVENT
BEGIN:VEVENT
DTSTART;TZID=America/New_York:20260712T090000
DTEND;TZID=America/New_York:20260712T160000
DTSTAMP:20260422T230729
CREATED:20251201T210913Z
LAST-MODIFIED:20251201T212332Z
UID:3853-1783846800-1783872000@hawthornecaballeros.org
SUMMARY:Rehearsal
DESCRIPTION:
URL:https://hawthornecaballeros.org/event/rehearsal-july122026/
CATEGORIES:Rehearsal
END:VEVENT
BEGIN:VEVENT
DTSTART;TZID=America/New_York:20260717T190000
DTEND;TZID=America/New_York:20260717T220000
DTSTAMP:20260422T230729
CREATED:20260122T152412Z
LAST-MODIFIED:20260122T152412Z
UID:3938-1784314800-1784325600@hawthornecaballeros.org
SUMMARY:Rehearsal
DESCRIPTION:
URL:https://hawthornecaballeros.org/event/rehearsal-july172026/
CATEGORIES:Rehearsal
END:VEVENT
BEGIN:VEVENT
DTSTART;TZID=America/New_York:20260718T090000
DTEND;TZID=America/New_York:20260718T210000
DTSTAMP:20260422T230729
CREATED:20260122T152442Z
LAST-MODIFIED:20260122T152442Z
UID:3940-1784365200-1784408400@hawthornecaballeros.org
SUMMARY:Rehearsal
DESCRIPTION:
URL:https://hawthornecaballeros.org/event/rehearsal-july182026/
CATEGORIES:Rehearsal
END:VEVENT
BEGIN:VEVENT
DTSTART;TZID=America/New_York:20260719T090000
DTEND;TZID=America/New_York:20260719T160000
DTSTAMP:20260422T230729
CREATED:20260122T152515Z
LAST-MODIFIED:20260122T152515Z
UID:3942-1784451600-1784476800@hawthornecaballeros.org
SUMMARY:Rehearsal
DESCRIPTION:
URL:https://hawthornecaballeros.org/event/rehearsal-july192026/
CATEGORIES:Rehearsal
END:VEVENT
BEGIN:VEVENT
DTSTART;TZID=America/New_York:20260724T190000
DTEND;TZID=America/New_York:20260724T220000
DTSTAMP:20260422T230729
CREATED:20260122T152610Z
LAST-MODIFIED:20260122T152610Z
UID:3944-1784919600-1784930400@hawthornecaballeros.org
SUMMARY:Rehearsal
DESCRIPTION:
URL:https://hawthornecaballeros.org/event/rehearsal-july242026/
CATEGORIES:Rehearsal
END:VEVENT
BEGIN:VEVENT
DTSTART;TZID=America/New_York:20260726T090000
DTEND;TZID=America/New_York:20260726T160000
DTSTAMP:20260422T230729
CREATED:20260122T152647Z
LAST-MODIFIED:20260122T152647Z
UID:3946-1785056400-1785081600@hawthornecaballeros.org
SUMMARY:Rehearsal
DESCRIPTION:
URL:https://hawthornecaballeros.org/event/rehearsal-july262026/
CATEGORIES:Rehearsal
END:VEVENT
END:VCALENDAR