BEGIN:VCALENDAR
VERSION:2.0
PRODID:-//Hawthorne Caballeros Drum &amp; Bugle Corps - ECPv6.15.19//NONSGML v1.0//EN
CALSCALE:GREGORIAN
METHOD:PUBLISH
X-ORIGINAL-URL:https://hawthornecaballeros.org
X-WR-CALDESC:Events for Hawthorne Caballeros Drum &amp; Bugle Corps
REFRESH-INTERVAL;VALUE=DURATION:PT1H
X-Robots-Tag:noindex
X-PUBLISHED-TTL:PT1H
BEGIN:VTIMEZONE
TZID:UTC
BEGIN:STANDARD
TZOFFSETFROM:+0000
TZOFFSETTO:+0000
TZNAME:UTC
DTSTART:20220101T000000
END:STANDARD
END:VTIMEZONE
BEGIN:VEVENT
DTSTART;TZID=UTC:20231125T090000
DTEND;TZID=UTC:20231126T160000
DTSTAMP:20260419T163739
CREATED:20230908T083422Z
LAST-MODIFIED:20231126T202210Z
UID:89-1700902800-1701014400@hawthornecaballeros.org
SUMMARY:2024 Open House
DESCRIPTION:Join us for our 2024 Open House! \nFor both days Open House will run 9am-4pm with registration beginning at 8:30am on Saturday morning. \nYou can register for this event by going here: https://hawthornecaballeros.org/register-for-our-2024-open-house/
URL:https://hawthornecaballeros.org/event/2024-open-house/
LOCATION:Passaic County Technical Institute\, 45 Reinhardt Rd\, Wayne\, NJ\, 07470\, United States
END:VEVENT
END:VCALENDAR