BEGIN:VCALENDAR
VERSION:2.0
PRODID:-//Hawthorne Caballeros Drum &amp; Bugle Corps - ECPv6.15.19//NONSGML v1.0//EN
CALSCALE:GREGORIAN
METHOD:PUBLISH
X-ORIGINAL-URL:https://hawthornecaballeros.org
X-WR-CALDESC:Events for Hawthorne Caballeros Drum &amp; Bugle Corps
REFRESH-INTERVAL;VALUE=DURATION:PT1H
X-Robots-Tag:noindex
X-PUBLISHED-TTL:PT1H
BEGIN:VTIMEZONE
TZID:America/New_York
BEGIN:DAYLIGHT
TZOFFSETFROM:-0500
TZOFFSETTO:-0400
TZNAME:EDT
DTSTART:20230312T070000
END:DAYLIGHT
BEGIN:STANDARD
TZOFFSETFROM:-0400
TZOFFSETTO:-0500
TZNAME:EST
DTSTART:20231105T060000
END:STANDARD
BEGIN:DAYLIGHT
TZOFFSETFROM:-0500
TZOFFSETTO:-0400
TZNAME:EDT
DTSTART:20240310T070000
END:DAYLIGHT
BEGIN:STANDARD
TZOFFSETFROM:-0400
TZOFFSETTO:-0500
TZNAME:EST
DTSTART:20241103T060000
END:STANDARD
BEGIN:DAYLIGHT
TZOFFSETFROM:-0500
TZOFFSETTO:-0400
TZNAME:EDT
DTSTART:20250309T070000
END:DAYLIGHT
BEGIN:STANDARD
TZOFFSETFROM:-0400
TZOFFSETTO:-0500
TZNAME:EST
DTSTART:20251102T060000
END:STANDARD
END:VTIMEZONE
BEGIN:VEVENT
DTSTART;TZID=America/New_York:20240406T090000
DTEND;TZID=America/New_York:20240407T160000
DTSTAMP:20260419T090433
CREATED:20231127T163745Z
LAST-MODIFIED:20240402T194123Z
UID:885-1712394000-1712505600@hawthornecaballeros.org
SUMMARY:April Camp
DESCRIPTION:Saturday will run 9am to 6:30pm with an 8:30am check-in. \nSunday will run 9am to 4pm with an 8:30am check-in.
URL:https://hawthornecaballeros.org/event/april-camp/
LOCATION:Passaic County Technical Institute\, 45 Reinhardt Rd\, Wayne\, NJ\, 07470\, United States
CATEGORIES:Rehearsal
END:VEVENT
BEGIN:VEVENT
DTSTART;VALUE=DATE:20240427
DTEND;VALUE=DATE:20240429
DTSTAMP:20260419T090433
CREATED:20231127T163820Z
LAST-MODIFIED:20240503T023451Z
UID:887-1714176000-1714348799@hawthornecaballeros.org
SUMMARY:Color Guard Auditions
DESCRIPTION:If you have any questions please send an email to: \nBriana See\, Color Guard Caption Head – colorguard@hawthornecaballeros.org\nMichele Parrino\, Membership Manager – michele@hawthornecaballeros.org
URL:https://hawthornecaballeros.org/event/color-guard-auditions/
CATEGORIES:Rehearsal
END:VEVENT
BEGIN:VEVENT
DTSTART;TZID=America/New_York:20240427T090000
DTEND;TZID=America/New_York:20240428T160000
DTSTAMP:20260419T090433
CREATED:20231127T163843Z
LAST-MODIFIED:20231127T163922Z
UID:889-1714208400-1714320000@hawthornecaballeros.org
SUMMARY:April Camp #2
DESCRIPTION:
URL:https://hawthornecaballeros.org/event/april-camp-2/
CATEGORIES:Rehearsal
END:VEVENT
END:VCALENDAR