BEGIN:VCALENDAR
VERSION:2.0
PRODID:-//Hawthorne Caballeros Drum &amp; Bugle Corps - ECPv6.15.19//NONSGML v1.0//EN
CALSCALE:GREGORIAN
METHOD:PUBLISH
X-WR-CALNAME:Hawthorne Caballeros Drum &amp; Bugle Corps
X-ORIGINAL-URL:https://hawthornecaballeros.org
X-WR-CALDESC:Events for Hawthorne Caballeros Drum &amp; Bugle Corps
REFRESH-INTERVAL;VALUE=DURATION:PT1H
X-Robots-Tag:noindex
X-PUBLISHED-TTL:PT1H
BEGIN:VTIMEZONE
TZID:America/New_York
BEGIN:DAYLIGHT
TZOFFSETFROM:-0500
TZOFFSETTO:-0400
TZNAME:EDT
DTSTART:20240310T070000
END:DAYLIGHT
BEGIN:STANDARD
TZOFFSETFROM:-0400
TZOFFSETTO:-0500
TZNAME:EST
DTSTART:20241103T060000
END:STANDARD
BEGIN:DAYLIGHT
TZOFFSETFROM:-0500
TZOFFSETTO:-0400
TZNAME:EDT
DTSTART:20250309T070000
END:DAYLIGHT
BEGIN:STANDARD
TZOFFSETFROM:-0400
TZOFFSETTO:-0500
TZNAME:EST
DTSTART:20251102T060000
END:STANDARD
BEGIN:DAYLIGHT
TZOFFSETFROM:-0500
TZOFFSETTO:-0400
TZNAME:EDT
DTSTART:20260308T070000
END:DAYLIGHT
BEGIN:STANDARD
TZOFFSETFROM:-0400
TZOFFSETTO:-0500
TZNAME:EST
DTSTART:20261101T060000
END:STANDARD
END:VTIMEZONE
BEGIN:VEVENT
DTSTART;TZID=America/New_York:20250519T073000
DTEND;TZID=America/New_York:20250519T143000
DTSTAMP:20260422T210848
CREATED:20250205T021949Z
LAST-MODIFIED:20250310T152518Z
UID:3134-1747639800-1747665000@hawthornecaballeros.org
SUMMARY:12th Annual Hawthorne Caballeros Golf Outing
DESCRIPTION:12th Annual Hawthorne Caballeros Golf Outing Details\nDate: May 19th\, 2025\nLocation: Black Bear Golf Club\n138 State Route 23 Franklin NJ 07416 \nCost\n$170 per person for full event\n$55 per person for Lunch only \nIncluded in full event registration – green fees\, cart\, breakfast\, beer\, goodie bag and American buffet lunch \nSchedule\n7:30am – Check in begins with access to locker room\, putting greens and driving range\n7:30am to 8:30am – Breakfast\n9:00am – Shotgun begins\n1:00pm to 2:30pm – Lunch with raffle\, awards\, and prizes \nLooking to sponsor the Golf Outing? Purchase a sponsorship here!\n  \nJoin our Facebook event here: https://www.facebook.com/share/1BbaW7ww6k/ \nPlease note this is a rain or shine event; no refunds will be given in the event of inclement weather. \n\nEvent Registration\nRegistration deadline is May 11th!\n\n                \n		\n\n		\n                        \n                            Golf Outing\n                             \n							"*" indicates required fields \n                        \n                        Name*\n                            \n                            \n                                                    First\n                                                    \n                                                \n                            \n                            \n                                                            Last\n                                                            \n                                                        \n                            \n                        Email*\n                            \n                        PhoneAddress*    \n                    \n                         \n                                        Street Address\n                                        \n                                   \n                                        Address Line 2\n                                        \n                                    \n                                    City\n                                    \n                                 \n                                        State\n                                        AlabamaAlaskaAmerican SamoaArizonaArkansasCaliforniaColoradoConnecticutDelawareDistrict of ColumbiaFloridaGeorgiaGuamHawaiiIdahoIllinoisIndianaIowaKansasKentuckyLouisianaMaineMarylandMassachusettsMichiganMinnesotaMississippiMissouriMontanaNebraskaNevadaNew HampshireNew JerseyNew MexicoNew YorkNorth CarolinaNorth DakotaNorthern Mariana IslandsOhioOklahomaOregonPennsylvaniaPuerto RicoRhode IslandSouth CarolinaSouth DakotaTennesseeTexasUtahU.S. Virgin IslandsVermontVirginiaWashingtonWest VirginiaWisconsinWyomingArmed Forces AmericasArmed Forces EuropeArmed Forces Pacific\n                                      \n                                    ZIP Code\n                                    \n                                \n                    \n                Event DetailsAre you registering for the full event or just lunch?*I am playing golfLunch OnlyIf you are golfing\, are you staying for lunch?YesNoPlease list your entire foursome below including yourself. If you do not have one at this time leave this blank.Payment DetailsHow many people are you paying for?1234Max 4. If you need to pay for a ticket for the full event and a ticket for just lunch\, please submit the form twice.Total\n							\n						Credit Card*\n					\n						Cardholder Name\n					\n					\n						Card Details\n					\n				\n          \n            \n            \n            \n            \n            \n            \n            \n            \n            \n            \n        \n                        Δ
URL:https://hawthornecaballeros.org/event/12th-annual-hawthorne-caballeros-golf-outing/
LOCATION:Black Bear Golf Club\, 138 NJ-23\, Franklin\, NJ\, United States
CATEGORIES:Fundraiser
END:VEVENT
BEGIN:VEVENT
DTSTART;VALUE=DATE:20250525
DTEND;VALUE=DATE:20250526
DTSTAMP:20260422T210848
CREATED:20241121T002400Z
LAST-MODIFIED:20241121T002400Z
UID:2784-1748131200-1748217599@hawthornecaballeros.org
SUMMARY:Saddle Brook Memorial Day Parade
DESCRIPTION:
URL:https://hawthornecaballeros.org/event/saddle-brook-memorial-day-parade/
LOCATION:Saddle Brook\, NJ\, United States
CATEGORIES:Parade
END:VEVENT
BEGIN:VEVENT
DTSTART;VALUE=DATE:20250526
DTEND;VALUE=DATE:20250527
DTSTAMP:20260422T210848
CREATED:20241121T002520Z
LAST-MODIFIED:20241121T002520Z
UID:2786-1748217600-1748303999@hawthornecaballeros.org
SUMMARY:Fair Lawn Memorial Day Parade
DESCRIPTION:
URL:https://hawthornecaballeros.org/event/fair-lawn-memorial-day-parade-2/
LOCATION:Fair Lawn\, NJ\, Fair Lawn\, NJ\, 07410\, United States
CATEGORIES:Parade
END:VEVENT
BEGIN:VEVENT
DTSTART;VALUE=DATE:20250526
DTEND;VALUE=DATE:20250527
DTSTAMP:20260422T210848
CREATED:20241121T002631Z
LAST-MODIFIED:20241121T002631Z
UID:2789-1748217600-1748303999@hawthornecaballeros.org
SUMMARY:Hawthorne Memorial Day Parade
DESCRIPTION:
URL:https://hawthornecaballeros.org/event/hawthorne-memorial-day-parade-2/
LOCATION:Hawthorne\, NJ\, Hawthorne\, NJ\, 07506
CATEGORIES:Parade
END:VEVENT
END:VCALENDAR