BEGIN:VCALENDAR
VERSION:2.0
PRODID:-//Hawthorne Caballeros Drum &amp; Bugle Corps - ECPv6.15.19//NONSGML v1.0//EN
CALSCALE:GREGORIAN
METHOD:PUBLISH
X-ORIGINAL-URL:https://hawthornecaballeros.org
X-WR-CALDESC:Events for Hawthorne Caballeros Drum &amp; Bugle Corps
REFRESH-INTERVAL;VALUE=DURATION:PT1H
X-Robots-Tag:noindex
X-PUBLISHED-TTL:PT1H
BEGIN:VTIMEZONE
TZID:America/New_York
BEGIN:DAYLIGHT
TZOFFSETFROM:-0500
TZOFFSETTO:-0400
TZNAME:EDT
DTSTART:20250309T070000
END:DAYLIGHT
BEGIN:STANDARD
TZOFFSETFROM:-0400
TZOFFSETTO:-0500
TZNAME:EST
DTSTART:20251102T060000
END:STANDARD
BEGIN:DAYLIGHT
TZOFFSETFROM:-0500
TZOFFSETTO:-0400
TZNAME:EDT
DTSTART:20260308T070000
END:DAYLIGHT
BEGIN:STANDARD
TZOFFSETFROM:-0400
TZOFFSETTO:-0500
TZNAME:EST
DTSTART:20261101T060000
END:STANDARD
BEGIN:DAYLIGHT
TZOFFSETFROM:-0500
TZOFFSETTO:-0400
TZNAME:EDT
DTSTART:20270314T070000
END:DAYLIGHT
BEGIN:STANDARD
TZOFFSETFROM:-0400
TZOFFSETTO:-0500
TZNAME:EST
DTSTART:20271107T060000
END:STANDARD
END:VTIMEZONE
BEGIN:VEVENT
DTSTART;TZID=America/New_York:20260605T190000
DTEND;TZID=America/New_York:20260605T220000
DTSTAMP:20260422T081300
CREATED:20251201T210443Z
LAST-MODIFIED:20251201T212556Z
UID:3841-1780686000-1780696800@hawthornecaballeros.org
SUMMARY:Rehearsal
DESCRIPTION:
URL:https://hawthornecaballeros.org/event/rehearsal-june52026/
CATEGORIES:Rehearsal
END:VEVENT
BEGIN:VEVENT
DTSTART;TZID=America/New_York:20260606T090000
DTEND;TZID=America/New_York:20260606T210000
DTSTAMP:20260422T081300
CREATED:20251201T212616Z
LAST-MODIFIED:20251201T212627Z
UID:3881-1780736400-1780779600@hawthornecaballeros.org
SUMMARY:Rehearsal
DESCRIPTION:
URL:https://hawthornecaballeros.org/event/rehearsal-june62026/
CATEGORIES:Rehearsal
END:VEVENT
BEGIN:VEVENT
DTSTART;TZID=America/New_York:20260607T090000
DTEND;TZID=America/New_York:20260607T160000
DTSTAMP:20260422T081300
CREATED:20260122T151705Z
LAST-MODIFIED:20260122T153043Z
UID:3925-1780822800-1780848000@hawthornecaballeros.org
SUMMARY:Rehearsal
DESCRIPTION:
URL:https://hawthornecaballeros.org/event/rehearsal-june72026/
CATEGORIES:Rehearsal
END:VEVENT
BEGIN:VEVENT
DTSTART;TZID=America/New_York:20260612T190000
DTEND;TZID=America/New_York:20260612T220000
DTSTAMP:20260422T081300
CREATED:20251201T210540Z
LAST-MODIFIED:20260122T151756Z
UID:3843-1781290800-1781301600@hawthornecaballeros.org
SUMMARY:Rehearsal
DESCRIPTION:
URL:https://hawthornecaballeros.org/event/rehearsal-june122026/
CATEGORIES:Rehearsal
END:VEVENT
BEGIN:VEVENT
DTSTART;VALUE=DATE:20260613
DTEND;VALUE=DATE:20260614
DTSTAMP:20260422T081300
CREATED:20260122T151841Z
LAST-MODIFIED:20260122T151841Z
UID:3928-1781308800-1781395199@hawthornecaballeros.org
SUMMARY:Rehearsal
DESCRIPTION:Following conclusion of Flag Day Parade.
URL:https://hawthornecaballeros.org/event/rehearsal-june132026/
CATEGORIES:Rehearsal
END:VEVENT
BEGIN:VEVENT
DTSTART;TZID=America/New_York:20260614T090000
DTEND;TZID=America/New_York:20260614T160000
DTSTAMP:20260422T081300
CREATED:20260122T151913Z
LAST-MODIFIED:20260122T151913Z
UID:3930-1781427600-1781452800@hawthornecaballeros.org
SUMMARY:Rehearsal
DESCRIPTION:
URL:https://hawthornecaballeros.org/event/rehearsal-june142026/
CATEGORIES:Rehearsal
END:VEVENT
BEGIN:VEVENT
DTSTART;TZID=America/New_York:20260619T190000
DTEND;TZID=America/New_York:20260619T220000
DTSTAMP:20260422T081300
CREATED:20260122T152027Z
LAST-MODIFIED:20260122T152027Z
UID:3932-1781895600-1781906400@hawthornecaballeros.org
SUMMARY:Rehearsal
DESCRIPTION:
URL:https://hawthornecaballeros.org/event/rehearsal-june192026/
CATEGORIES:Rehearsal
END:VEVENT
BEGIN:VEVENT
DTSTART;TZID=America/New_York:20260620T090000
DTEND;TZID=America/New_York:20260620T210000
DTSTAMP:20260422T081300
CREATED:20260122T152101Z
LAST-MODIFIED:20260122T152101Z
UID:3934-1781946000-1781989200@hawthornecaballeros.org
SUMMARY:Rehearsal
DESCRIPTION:
URL:https://hawthornecaballeros.org/event/rehearsal-june202026/
CATEGORIES:Rehearsal
END:VEVENT
BEGIN:VEVENT
DTSTART;TZID=America/New_York:20260621T090000
DTEND;TZID=America/New_York:20260621T130000
DTSTAMP:20260422T081300
CREATED:20260122T152146Z
LAST-MODIFIED:20260122T152146Z
UID:3936-1782032400-1782046800@hawthornecaballeros.org
SUMMARY:Rehearsal
DESCRIPTION:Ending early due to Father’s day.
URL:https://hawthornecaballeros.org/event/rehearsal-june212026/
CATEGORIES:Rehearsal
END:VEVENT
BEGIN:VEVENT
DTSTART;TZID=America/New_York:20260626T190000
DTEND;TZID=America/New_York:20260626T220000
DTSTAMP:20260422T081300
CREATED:20251201T210636Z
LAST-MODIFIED:20251201T210636Z
UID:3845-1782500400-1782511200@hawthornecaballeros.org
SUMMARY:Rehearsal
DESCRIPTION:
URL:https://hawthornecaballeros.org/event/rehearsal-june262026/
CATEGORIES:Rehearsal
END:VEVENT
BEGIN:VEVENT
DTSTART;VALUE=DATE:20260627
DTEND;VALUE=DATE:20260628
DTSTAMP:20260422T081300
CREATED:20251125T021849Z
LAST-MODIFIED:20251125T021849Z
UID:3783-1782518400-1782604799@hawthornecaballeros.org
SUMMARY:2026 Champions on Parade
DESCRIPTION:
URL:https://hawthornecaballeros.org/event/2026-champions-on-parade/
LOCATION:Shelton High School\, 120 Meadow Street\, Shelton\, CT\, 06484
CATEGORIES:Competition
END:VEVENT
BEGIN:VEVENT
DTSTART;VALUE=DATE:20260628
DTEND;VALUE=DATE:20260629
DTSTAMP:20260422T081300
CREATED:20251125T021622Z
LAST-MODIFIED:20251125T021639Z
UID:3776-1782604800-1782691199@hawthornecaballeros.org
SUMMARY:2026 Barnum Festival Parade
DESCRIPTION:
URL:https://hawthornecaballeros.org/event/2026-barnum-festival-parade/
LOCATION:Bridgeport\, CT\, Bridgeport\, CT\, 06601
CATEGORIES:Parade
END:VEVENT
END:VCALENDAR